BEGIN:VCALENDAR
VERSION:2.0
PRODID:-//SEMMEL CONCERTS//MAMMA MIA! Das Original-Musical//EN
BEGIN:VEVENT
UID:69e65884b9976@semmel.de
DTSTAMP:20271010T160000Z
DTSTART:20271010T160000Z
DTEND:20271010T160000Z
SUMMARY:MAMMA MIA! Das Original-Musical
DESCRIPTION:MAMMA MIA! Das Original-Musical\nMetronom Theater\n46047 Oberhausen
END:VEVENT
END:VCALENDAR
