BEGIN:VCALENDAR
VERSION:2.0
PRODID:-//SEMMEL CONCERTS//This is THE GREATEST SHOW! LIVE 2026//EN
BEGIN:VEVENT
UID:69eccd7dee0d1@semmel.de
DTSTAMP:20260517T113000Z
DTSTART:20260517T113000Z
DTEND:20260517T113000Z
SUMMARY:This is THE GREATEST SHOW! LIVE 2026
DESCRIPTION:This is THE GREATEST SHOW! LIVE 2026\nMetronom Theater\n46047 Oberhausen
END:VEVENT
END:VCALENDAR
