BEGIN:VCALENDAR
VERSION:2.0
PRODID:-//SEMMEL CONCERTS//Clara Lösel Ich dachte, sowas fühl nur ich Live Tour 2027//EN
BEGIN:VEVENT
UID:69e77ee4852a6@semmel.de
DTSTAMP:20270508T173000Z
DTSTART:20270508T173000Z
DTEND:20270508T173000Z
SUMMARY:Clara Lösel Ich dachte, sowas fühl nur ich Live Tour 2027
DESCRIPTION:Clara Lösel Ich dachte, sowas fühl nur ich Live Tour 2027\nUber Eats Music Hall\n10243 Berlin
END:VEVENT
END:VCALENDAR
