BEGIN:VCALENDAR
VERSION:2.0
PRODID:-//SEMMEL CONCERTS//Die Prinzen Tschüssi, macht\'s gut! Die Abschiedstournee//EN
BEGIN:VEVENT
UID:69e5976e3a26a@semmel.de
DTSTAMP:20271119T173000Z
DTSTART:20271119T173000Z
DTEND:20271119T173000Z
SUMMARY:Die Prinzen Tschüssi, macht\'s gut! Die Abschiedstournee
DESCRIPTION:Die Prinzen Tschüssi, macht\'s gut! Die Abschiedstournee\nratiopharm arena\n89231 Neu-Ulm
END:VEVENT
END:VCALENDAR
