BEGIN:VCALENDAR
VERSION:2.0
PRODID:-//SEMMEL CONCERTS//Timon Krause HAPPY Live 2027//EN
BEGIN:VEVENT
UID:69e5f50acce79@semmel.de
DTSTAMP:20271006T180000Z
DTSTART:20271006T180000Z
DTEND:20271006T180000Z
SUMMARY:Timon Krause HAPPY Live 2027
DESCRIPTION:Timon Krause HAPPY Live 2027\nCircus-Krone-Bau\n80335 München
END:VEVENT
END:VCALENDAR
