BEGIN:VCALENDAR
VERSION:2.0
PRODID:-//SEMMEL CONCERTS//Die Prinzen Tschüssi, macht\'s gut! Die Abschiedstournee//EN
BEGIN:VEVENT
UID:69e596e289f58@semmel.de
DTSTAMP:20271102T173000Z
DTSTART:20271102T173000Z
DTEND:20271102T173000Z
SUMMARY:Die Prinzen Tschüssi, macht\'s gut! Die Abschiedstournee
DESCRIPTION:Die Prinzen Tschüssi, macht\'s gut! Die Abschiedstournee\nLANXESS arena\n50679 Köln
END:VEVENT
END:VCALENDAR
