BEGIN:VCALENDAR
VERSION:2.0
PRODID:-//SEMMEL CONCERTS//Die Prinzen Tschüssi, macht\'s gut! Die Abschiedstournee//EN
BEGIN:VEVENT
UID:69e597498a9ce@semmel.de
DTSTAMP:20271025T173000Z
DTSTART:20271025T173000Z
DTEND:20271025T173000Z
SUMMARY:Die Prinzen Tschüssi, macht\'s gut! Die Abschiedstournee
DESCRIPTION:Die Prinzen Tschüssi, macht\'s gut! Die Abschiedstournee\nStadtHalle Rostock\n18059 Rostock
END:VEVENT
END:VCALENDAR
