BEGIN:VCALENDAR
VERSION:2.0
PRODID:-//SEMMEL CONCERTS//Die Prinzen Tschüssi, macht\'s gut! Die Abschiedstournee//EN
BEGIN:VEVENT
UID:69e596dbe0ebb@semmel.de
DTSTAMP:20271216T173000Z
DTSTART:20271216T173000Z
DTEND:20271216T173000Z
SUMMARY:Die Prinzen Tschüssi, macht\'s gut! Die Abschiedstournee
DESCRIPTION:Die Prinzen Tschüssi, macht\'s gut! Die Abschiedstournee\nTheater 11\n8050 Zürich
END:VEVENT
END:VCALENDAR
