BEGIN:VCALENDAR
VERSION:2.0
PRODID:-//SEMMEL CONCERTS//This is THE GREATEST SHOW! LIVE 2026//EN
BEGIN:VEVENT
UID:69eccf377b3bf@semmel.de
DTSTAMP:20260515T173000Z
DTSTART:20260515T173000Z
DTEND:20260515T173000Z
SUMMARY:This is THE GREATEST SHOW! LIVE 2026
DESCRIPTION:This is THE GREATEST SHOW! LIVE 2026\nMetronom Theater\n46047 Oberhausen
END:VEVENT
END:VCALENDAR
