BEGIN:VCALENDAR
VERSION:2.0
PRODID:-//SEMMEL CONCERTS//Georg Stengel ISSO Live mit Band 2026//EN
BEGIN:VEVENT
UID:69e750c3589fc@semmel.de
DTSTAMP:20260503T180000Z
DTSTART:20260503T180000Z
DTEND:20260503T180000Z
SUMMARY:Georg Stengel ISSO Live mit Band 2026
DESCRIPTION:Georg Stengel ISSO Live mit Band 2026\nM.A.U. Club\n18057 Rostock
END:VEVENT
END:VCALENDAR
