BEGIN:VCALENDAR
VERSION:2.0
PRODID:-//SEMMEL CONCERTS//STOMP Die internationale Theatersensation kehrt zurück!//EN
BEGIN:VEVENT
UID:69e9e334c34e6@semmel.de
DTSTAMP:20270205T173000Z
DTSTART:20270205T173000Z
DTEND:20270205T173000Z
SUMMARY:STOMP Die internationale Theatersensation kehrt zurück!
DESCRIPTION:STOMP Die internationale Theatersensation kehrt zurück!\nTheater 11\n8050 Zürich
END:VEVENT
END:VCALENDAR
