BEGIN:VCALENDAR
VERSION:2.0
PRODID:-//SEMMEL CONCERTS//Erin Kinsey Summer Shows Sound of Nashville präsentiert//EN
BEGIN:VEVENT
UID:69e6588f5aaa9@semmel.de
DTSTAMP:20260822T170000Z
DTSTART:20260822T170000Z
DTEND:20260822T170000Z
SUMMARY:Erin Kinsey Summer Shows Sound of Nashville präsentiert
DESCRIPTION:Erin Kinsey Summer Shows Sound of Nashville präsentiert\nFREIDECK - Kantine Open Air\n50735 Köln
END:VEVENT
END:VCALENDAR
