BEGIN:VCALENDAR
VERSION:2.0
PRODID:-//SEMMEL CONCERTS//Clara Lösel Ich dachte, sowas fühl nur ich Live Tour 2027//EN
BEGIN:VEVENT
UID:69e77f3d53865@semmel.de
DTSTAMP:20270510T173000Z
DTSTART:20270510T173000Z
DTEND:20270510T173000Z
SUMMARY:Clara Lösel Ich dachte, sowas fühl nur ich Live Tour 2027
DESCRIPTION:Clara Lösel Ich dachte, sowas fühl nur ich Live Tour 2027\nHeinrich Lades Halle\n91052 Erlangen
END:VEVENT
END:VCALENDAR
