BEGIN:VCALENDAR
VERSION:2.0
PRODID:-//SEMMEL CONCERTS//Santiano DA BRAUT SICH WAS ZUSAMMEN DIE GROSSE ARENA TOUR//EN
BEGIN:VEVENT
UID:69e622985864e@semmel.de
DTSTAMP:20261118T180000Z
DTSTART:20261118T180000Z
DTEND:20261118T180000Z
SUMMARY:Santiano DA BRAUT SICH WAS ZUSAMMEN DIE GROSSE ARENA TOUR
DESCRIPTION:Santiano DA BRAUT SICH WAS ZUSAMMEN DIE GROSSE ARENA TOUR\nKongresszentrum Siegerlandhalle\n57072 Siegen
END:VEVENT
END:VCALENDAR
