BEGIN:VCALENDAR
VERSION:2.0
PRODID:-//SEMMEL CONCERTS//Die Prinzen Tschüssi, macht\'s gut! Die Abschiedstournee//EN
BEGIN:VEVENT
UID:69e597c68934a@semmel.de
DTSTAMP:20271109T173000Z
DTSTART:20271109T173000Z
DTEND:20271109T173000Z
SUMMARY:Die Prinzen Tschüssi, macht\'s gut! Die Abschiedstournee
DESCRIPTION:Die Prinzen Tschüssi, macht\'s gut! Die Abschiedstournee\nSwiss Life Hall\n30169 Hannover
END:VEVENT
END:VCALENDAR
