BEGIN:VCALENDAR
VERSION:2.0
PRODID:-//SEMMEL CONCERTS//Circus-Theater Roncalli Bernhard Paul präsentiert Circus-Theater RONCALLI Circus meets Schlager//EN
BEGIN:VEVENT
UID:69e5f4ae091dd@semmel.de
DTSTAMP:20260904T170000Z
DTSTART:20260904T170000Z
DTEND:20260904T170000Z
SUMMARY:Circus-Theater Roncalli Bernhard Paul präsentiert Circus-Theater RONCALLI Circus meets Schlager
DESCRIPTION:Circus-Theater Roncalli Bernhard Paul präsentiert Circus-Theater RONCALLI Circus meets Schlager\nMetronom Theater\n46047 Oberhausen
END:VEVENT
END:VCALENDAR
