BEGIN:VCALENDAR
VERSION:2.0
PRODID:-//SEMMEL CONCERTS//Die Prinzen Tschüssi, macht\'s gut! Die Abschiedstournee//EN
BEGIN:VEVENT
UID:69e59749a99b6@semmel.de
DTSTAMP:20271113T173000Z
DTSTART:20271113T173000Z
DTEND:20271113T173000Z
SUMMARY:Die Prinzen Tschüssi, macht\'s gut! Die Abschiedstournee
DESCRIPTION:Die Prinzen Tschüssi, macht\'s gut! Die Abschiedstournee\nheristo-arena\n33790 Halle / Westfalen
END:VEVENT
END:VCALENDAR
