BEGIN:VCALENDAR
VERSION:2.0
PRODID:-//SEMMEL CONCERTS//Die Prinzen Tschüssi, macht\'s gut! Die Abschiedstournee//EN
BEGIN:VEVENT
UID:69e597b201fc6@semmel.de
DTSTAMP:20271107T160000Z
DTSTART:20271107T160000Z
DTEND:20271107T160000Z
SUMMARY:Die Prinzen Tschüssi, macht\'s gut! Die Abschiedstournee
DESCRIPTION:Die Prinzen Tschüssi, macht\'s gut! Die Abschiedstournee\nMesse Erfurt\n99094 Erfurt
END:VEVENT
END:VCALENDAR
