BEGIN:VCALENDAR
VERSION:2.0
PRODID:-//SEMMEL CONCERTS//Clara Lösel Ich dachte, sowas fühl nur ich Live Tour 2027//EN
BEGIN:VEVENT
UID:69e77f6c1e9a4@semmel.de
DTSTAMP:20270507T173000Z
DTSTART:20270507T173000Z
DTEND:20270507T173000Z
SUMMARY:Clara Lösel Ich dachte, sowas fühl nur ich Live Tour 2027
DESCRIPTION:Clara Lösel Ich dachte, sowas fühl nur ich Live Tour 2027\nLaeiszhalle\n20355 Hamburg
END:VEVENT
END:VCALENDAR
