BEGIN:VCALENDAR
VERSION:2.0
PRODID:-//SEMMEL CONCERTS//Sound of Nashville Open Air The 502s Rose Betts, Zandi Holup, Birdtalker//EN
BEGIN:VEVENT
UID:69e90a71b3716@semmel.de
DTSTAMP:20260906T143000Z
DTSTART:20260906T143000Z
DTEND:20260906T143000Z
SUMMARY:Sound of Nashville Open Air The 502s Rose Betts, Zandi Holup, Birdtalker
DESCRIPTION:Sound of Nashville Open Air The 502s Rose Betts, Zandi Holup, Birdtalker\nFREIDECK - Kantine Open Air\n50735 Köln
END:VEVENT
END:VCALENDAR
