BEGIN:VCALENDAR
VERSION:2.0
PRODID:-//SEMMEL CONCERTS//Georg Stengel ISSO Live mit Band 2026//EN
BEGIN:VEVENT
UID:69e6220b8329d@semmel.de
DTSTAMP:20260430T173000Z
DTSTART:20260430T173000Z
DTEND:20260430T173000Z
SUMMARY:Georg Stengel ISSO Live mit Band 2026
DESCRIPTION:Georg Stengel ISSO Live mit Band 2026\nCENTRAL ERFURT\n99085 Erfurt
END:VEVENT
END:VCALENDAR
