BEGIN:VCALENDAR
VERSION:2.0
PRODID:-//SEMMEL CONCERTS//Timon Krause HAPPY Live 2027//EN
BEGIN:VEVENT
UID:69e5f49a89188@semmel.de
DTSTAMP:20271010T173000Z
DTSTART:20271010T173000Z
DTEND:20271010T173000Z
SUMMARY:Timon Krause HAPPY Live 2027
DESCRIPTION:Timon Krause HAPPY Live 2027\nHeinrich Lades Halle\n91052 Erlangen
END:VEVENT
END:VCALENDAR
