BEGIN:VCALENDAR
VERSION:2.0
PRODID:-//SEMMEL CONCERTS//Clara Lösel Ich dachte, sowas fühl nur ich Live Tour 2027//EN
BEGIN:VEVENT
UID:69e77eb614e74@semmel.de
DTSTAMP:20270520T173000Z
DTSTART:20270520T173000Z
DTEND:20270520T173000Z
SUMMARY:Clara Lösel Ich dachte, sowas fühl nur ich Live Tour 2027
DESCRIPTION:Clara Lösel Ich dachte, sowas fühl nur ich Live Tour 2027\nMetropol Theater Bremen\n28195 Bremen
END:VEVENT
END:VCALENDAR
