BEGIN:VCALENDAR
VERSION:2.0
PRODID:-//SEMMEL CONCERTS//Clara Lösel Ich dachte, sowas fühl nur ich Live Tour 2027//EN
BEGIN:VEVENT
UID:69e77f71bf76d@semmel.de
DTSTAMP:20270602T173000Z
DTSTART:20270602T173000Z
DTEND:20270602T173000Z
SUMMARY:Clara Lösel Ich dachte, sowas fühl nur ich Live Tour 2027
DESCRIPTION:Clara Lösel Ich dachte, sowas fühl nur ich Live Tour 2027\nGlobe Wien\n1030 Wien
END:VEVENT
END:VCALENDAR
