BEGIN:VCALENDAR
VERSION:2.0
PRODID:-//SEMMEL CONCERTS//Santiano DA BRAUT SICH WAS ZUSAMMEN DIE GROSSE ARENA TOUR//EN
BEGIN:VEVENT
UID:69e6221ad48c7@semmel.de
DTSTAMP:20261120T180000Z
DTSTART:20261120T180000Z
DTEND:20261120T180000Z
SUMMARY:Santiano DA BRAUT SICH WAS ZUSAMMEN DIE GROSSE ARENA TOUR
DESCRIPTION:Santiano DA BRAUT SICH WAS ZUSAMMEN DIE GROSSE ARENA TOUR\nMesse und Congress Centrum Halle Münsterland\n48155 Münster
END:VEVENT
END:VCALENDAR
