BEGIN:VCALENDAR
VERSION:2.0
PRODID:-//SEMMEL CONCERTS//Dick Brave Back for More Open Air Tour 2026//EN
BEGIN:VEVENT
UID:69ea1c4ca049d@semmel.de
DTSTAMP:20260809T170000Z
DTSTART:20260809T170000Z
DTEND:20260809T170000Z
SUMMARY:Dick Brave Back for More Open Air Tour 2026
DESCRIPTION:Dick Brave Back for More Open Air Tour 2026\nLüneburger Kultursommer\n21339 Lüneburg
END:VEVENT
END:VCALENDAR
