BEGIN:VCALENDAR
VERSION:2.0
PRODID:-//SEMMEL CONCERTS//This is THE GREATEST SHOW! LIVE 2026//EN
BEGIN:VEVENT
UID:69eccd880a85c@semmel.de
DTSTAMP:20260510T170000Z
DTSTART:20260510T170000Z
DTEND:20260510T170000Z
SUMMARY:This is THE GREATEST SHOW! LIVE 2026
DESCRIPTION:This is THE GREATEST SHOW! LIVE 2026\nRosengarten - Mozartsaal\n68161 Mannheim
END:VEVENT
END:VCALENDAR
