BEGIN:VCALENDAR
VERSION:2.0
PRODID:-//SEMMEL CONCERTS//K-POP FOREVER! Die Showsensation des Jahres Die größte K-POP Tribute-Show der Welt//EN
BEGIN:VEVENT
UID:69e87440982b4@semmel.de
DTSTAMP:20261022T170000Z
DTSTART:20261022T170000Z
DTEND:20261022T170000Z
SUMMARY:K-POP FOREVER! Die Showsensation des Jahres Die größte K-POP Tribute-Show der Welt
DESCRIPTION:K-POP FOREVER! Die Showsensation des Jahres Die größte K-POP Tribute-Show der Welt\nSwiss Life Hall\n30169 Hannover
END:VEVENT
END:VCALENDAR
