BEGIN:VCALENDAR
VERSION:2.0
PRODID:-//SEMMEL CONCERTS//Timon Krause HAPPY Live 2027//EN
BEGIN:VEVENT
UID:69e5e78c5a07e@semmel.de
DTSTAMP:20271014T180000Z
DTSTART:20271014T180000Z
DTEND:20271014T180000Z
SUMMARY:Timon Krause HAPPY Live 2027
DESCRIPTION:Timon Krause HAPPY Live 2027\nAlter Schlachthof\n01097 Dresden
END:VEVENT
END:VCALENDAR
