BEGIN:VCALENDAR
VERSION:2.0
PRODID:-//SEMMEL CONCERTS//Die Prinzen Tschüssi, macht\'s gut! Die Abschiedstournee//EN
BEGIN:VEVENT
UID:69e5979772cdb@semmel.de
DTSTAMP:20271110T173000Z
DTSTART:20271110T173000Z
DTEND:20271110T173000Z
SUMMARY:Die Prinzen Tschüssi, macht\'s gut! Die Abschiedstournee
DESCRIPTION:Die Prinzen Tschüssi, macht\'s gut! Die Abschiedstournee\nBarclays Arena\n22525 Hamburg
END:VEVENT
END:VCALENDAR
