BEGIN:VCALENDAR
VERSION:2.0
PRODID:-//SEMMEL CONCERTS//DIE ÄRZTE Eine Gänsehaut nach dem andern! Tour 2027//EN
BEGIN:VEVENT
UID:69e5f442032d8@semmel.de
DTSTAMP:20270420T180000Z
DTSTART:20270420T180000Z
DTEND:20270420T180000Z
SUMMARY:DIE ÄRZTE Eine Gänsehaut nach dem andern! Tour 2027
DESCRIPTION:DIE ÄRZTE Eine Gänsehaut nach dem andern! Tour 2027\nQUARTERBACK Immobilien ARENA\n04105 Leipzig
END:VEVENT
END:VCALENDAR
