BEGIN:VCALENDAR
VERSION:2.0
PRODID:-//SEMMEL CONCERTS//Clara Lösel Ich dachte, sowas fühl nur ich Live Tour 2027//EN
BEGIN:VEVENT
UID:69e77f0e16330@semmel.de
DTSTAMP:20270517T173000Z
DTSTART:20270517T173000Z
DTEND:20270517T173000Z
SUMMARY:Clara Lösel Ich dachte, sowas fühl nur ich Live Tour 2027
DESCRIPTION:Clara Lösel Ich dachte, sowas fühl nur ich Live Tour 2027\nLiederhalle - Hegelsaal\n70174 Stuttgart
END:VEVENT
END:VCALENDAR
