BEGIN:VCALENDAR
VERSION:2.0
PRODID:-//SEMMEL CONCERTS//Clara Lösel Ich dachte, sowas fühl nur ich Live Tour 2027//EN
BEGIN:VEVENT
UID:69e77f1d862bc@semmel.de
DTSTAMP:20270531T173000Z
DTSTART:20270531T173000Z
DTEND:20270531T173000Z
SUMMARY:Clara Lösel Ich dachte, sowas fühl nur ich Live Tour 2027
DESCRIPTION:Clara Lösel Ich dachte, sowas fühl nur ich Live Tour 2027\nTheater 11\n8050 Zürich
END:VEVENT
END:VCALENDAR
