BEGIN:VCALENDAR
VERSION:2.0
PRODID:-//SEMMEL CONCERTS//Clara Lösel Ich dachte, sowas fühl nur ich Live Tour 2027//EN
BEGIN:VEVENT
UID:69e77ec0451db@semmel.de
DTSTAMP:20270527T173000Z
DTSTART:20270527T173000Z
DTEND:20270527T173000Z
SUMMARY:Clara Lösel Ich dachte, sowas fühl nur ich Live Tour 2027
DESCRIPTION:Clara Lösel Ich dachte, sowas fühl nur ich Live Tour 2027\nCircus Krone GmbH & Co. Betriebs-KG\n80335 München
END:VEVENT
END:VCALENDAR
